BEGIN:VCALENDAR
VERSION:2.0
CALSCALE:GREGORIAN
PRODID:-//Diputació de Barcelona//DibaCMS//EN
BEGIN:VEVENT
UID:23739
DTSTAMP:20260424T204040
DTSTART:20260424T110000
DTEND:20270424T000000
SUMMARY:El 13è Concurs de Pintura Ràpida se celebrarà a la Fira de Primavera
LOCATION:
METHOD:PUBLISH
X-WR-CALNAME:sesrovires@diba.cat
X-WR-TIMEZONE:Europe/Madrid
DESCRIPTION:En el marc de la Fira de Primavera de Sant Esteve, el proper 17 de maig,  se celebrarà la 13a edició del Concurs de Pintura Ràpida. La iniciativa té com a objectiu fomentar la creativitat artística i posar en valor els elements refents i el paisatge del municipi. Hi ha cinc premis amb dotaicó econòmica, amb un primer premi de 700 euros. 

URI:https://www.sesrovires.cat/actualitat/noticies/el-13e-concurs-de-pintura-rapida-se-celebrara-a-la-fira-de-primavera.html
CLASS:PUBLIC
END:VEVENT
END:VCALENDAR
