BEGIN:VCALENDAR
VERSION:2.0
CALSCALE:GREGORIAN
PRODID:-//Diputació de Barcelona//DibaCMS//EN
BEGIN:VEVENT
UID:23740
DTSTAMP:20260425T163042
DTSTART:20260424T200000
DTEND:20270424T000000
SUMMARY:El sènior femení del CHSES aconsegueix l’ascens a la Lliga Or
LOCATION:
METHOD:PUBLISH
X-WR-CALNAME:sesrovires@diba.cat
X-WR-TIMEZONE:Europe/Madrid
DESCRIPTION:El primer equip sènior femení del Club Handbol Sant Esteve Sesrovires han aconseguit, a falta de quatre jornades per finalitzar la competició, l’ascens matemàtic a la Lliga Or, la màxima categoria de l’handbol català. 

URI:https://www.sesrovires.cat/actualitat/noticies/el-senior-femeni-del-chses-aconsegueix-lascens-a-la-lliga-or.html
CLASS:PUBLIC
END:VEVENT
END:VCALENDAR
