BEGIN:VCALENDAR
VERSION:2.0
CALSCALE:GREGORIAN
PRODID:-//Diputació de Barcelona//DibaCMS//EN
BEGIN:VEVENT
UID:2873
DTSTAMP:20260422T111733
DTSTART:20171108T100000
DTEND:20181108T000000
SUMMARY:Ajuts per al transport d'estudiants fora i dins del municipi 
LOCATION:
METHOD:PUBLISH
X-WR-CALNAME:sesrovires@diba.cat
X-WR-TIMEZONE:Europe/Madrid
DESCRIPTION:Aquesta setmana finalitzen les convocatòries de les dues línies d’ajuts per al transport d’estudiants que atorga anualment l’Ajuntament. D’una banda, l’ajut per al transport d’estudiants que estiguin cursant formació reglada en centres públics de la província o adscrits que no s’imparteixin al municipi i, de l’altra, l’ajut al transport escolar per assistir als centres educatius públics d’infantil, primària i secundària de Sant Esteve.

URI:https://www.sesrovires.cat/actualitat/noticies/ajuts-per-al-transport-destudiants-fora-i-dins-del-municipi-.html
CLASS:PUBLIC
END:VEVENT
END:VCALENDAR
