BEGIN:VCALENDAR
VERSION:2.0
CALSCALE:GREGORIAN
PRODID:-//Diputació de Barcelona//DibaCMS//EN
BEGIN:VEVENT
UID:7577
DTSTAMP:20260420T133329
DTSTART:20180726T160000
DTEND:20190726T000000
SUMMARY:Joventut promou un servei d’informació sobre drogues i violències masclistes per a les nits de Festa Major
LOCATION:
METHOD:PUBLISH
X-WR-CALNAME:sesrovires@diba.cat
X-WR-TIMEZONE:Europe/Madrid
DESCRIPTION:La regidoria de Joventut promou un servei d’orientació i assessorament nocturn sobre drogues i prevenció d’agressions sexuals per a les nits de Festa Major. L’atenció adreçada a joves es farà el divendres 27 i el dissabte 28, des del les 12 de la nit i fins a les 4 de la matinada.

URI:https://www.sesrovires.cat/actualitat/noticies/joventut-promou-un-servei-dinformacio-sobre-drogues-i-violencies-masclistes-per-a-les-nits-de-festa-major.html
CLASS:PUBLIC
END:VEVENT
END:VCALENDAR
