BEGIN:VCALENDAR
VERSION:2.0
CALSCALE:GREGORIAN
PRODID:-//Diputació de Barcelona//DibaCMS//EN
BEGIN:VEVENT
UID:7637
DTSTAMP:20260422T023824
DTSTART:20180831T000000
DTEND:20190831T000000
SUMMARY:Sant Esteve Sesrovires continuarà prestant serveis a la Beguda Alta amb normalitat de forma transitòria
LOCATION:
METHOD:PUBLISH
X-WR-CALNAME:sesrovires@diba.cat
X-WR-TIMEZONE:Europe/Madrid
DESCRIPTION:La Generalitat de Catalunya ha aprovat l’annexió del nucli de la Beguda Alta al municipi de Masquefa. Amb aquest decisió s’obre un procés de transició fins a l’agregació material i efectiva.  Durant aquest període, l’ajuntament de Sant Esteve Sesrovires continuarà prestant amb normalitat els seus serveis als veïns i veïnes de la Beguda Alta.

URI:https://www.sesrovires.cat/actualitat/noticies/sant-esteve-sesrovires-continuara-prestant-serveis-a-la-beguda-alta-amb-normalitat-de-forma-transitoria.html
CLASS:PUBLIC
END:VEVENT
END:VCALENDAR
