BEGIN:VCALENDAR
VERSION:2.0
CALSCALE:GREGORIAN
PRODID:-//Diputació de Barcelona//DibaCMS//EN
BEGIN:VEVENT
UID:7641
DTSTAMP:20260420T150408
DTSTART:20180904T000000
DTEND:20190904T000000
SUMMARY:Sant Esteve Sesrovires dona la benvinguda al nou curs escolar
LOCATION:
METHOD:PUBLISH
X-WR-CALNAME:sesrovires@diba.cat
X-WR-TIMEZONE:Europe/Madrid
DESCRIPTION:L’Àrea d’Educació ha convidat aquest any a Núria Duñó,  coordinadora de l’Aliança Educació 360, a l’Acte de Benvinguda del Curs Escolar 2018-19 per dissertar sobre com oferir millor oportunitats educatives . La conferència s’ha realitzat avui als jardins de l’Ajuntament i ha comptat amb la participació dels mestres dels centres educatius del municipi.

URI:https://www.sesrovires.cat/actualitat/noticies/sant-esteve-sesrovires-dona-la-benvinguda-al-nou-curs-escolar.html
CLASS:PUBLIC
END:VEVENT
END:VCALENDAR
