BEGIN:VCALENDAR
VERSION:2.0
CALSCALE:GREGORIAN
PRODID:-//Diputació de Barcelona//DibaCMS//EN
BEGIN:VEVENT
UID:7644
DTSTAMP:20260420T145924
DTSTART:20180907T190000
DTEND:20190907T000000
SUMMARY:Acte institucional per commemorar l’11 de setembre
LOCATION:
METHOD:PUBLISH
X-WR-CALNAME:sesrovires@diba.cat
X-WR-TIMEZONE:Europe/Madrid
DESCRIPTION:El Parc de La Coma acollirà l’11 de setembre els actes amb motiu de la Diada Nacional de Catalunya.  Les forces polítiques del municipi, les entitats locals i particulars podran fer la seva ofrena floral davant l’escultura que presideix el parc i que porta el nom d’Onze de Setembre.

URI:https://www.sesrovires.cat/actualitat/noticies/acte-institucional-per-commemorar-l11-de-setembre.html
CLASS:PUBLIC
END:VEVENT
END:VCALENDAR
