BEGIN:VCALENDAR
VERSION:2.0
CALSCALE:GREGORIAN
PRODID:-//Diputació de Barcelona//DibaCMS//EN
BEGIN:VEVENT
UID:7702
DTSTAMP:20260420T115800
DTSTART:20181001T090000
DTEND:20191001T000000
SUMMARY:El taekwondo sesrovirenc guanya set medalles en el Campionat d’Europa de Policies i Bombers
LOCATION:
METHOD:PUBLISH
X-WR-CALNAME:sesrovires@diba.cat
X-WR-TIMEZONE:Europe/Madrid
DESCRIPTION:Després de la pausa per les vacances d’estiu, l’Escola Taekwondo Sesrovires torna de nou a la competició.  Fa uns dies, el taekwondo sesrovirenc va aconseguir set medalles en el Campionat de Policies i Bombers i el proper cap de setmana una delegació de 30 competidors participaran en l’Open de la Comunitat de Valencia.

URI:https://www.sesrovires.cat/actualitat/noticies/el-taekwondo-sesrovirenc-guanya-set-medalles-en-el-campionat-deuropa-de-policies-i-bombers.html
CLASS:PUBLIC
END:VEVENT
END:VCALENDAR
