BEGIN:VCALENDAR
VERSION:2.0
CALSCALE:GREGORIAN
PRODID:-//Diputació de Barcelona//DibaCMS//EN
BEGIN:VEVENT
UID:7769
DTSTAMP:20260420T164356
DTSTART:20181018T150000
DTEND:20191018T000000
SUMMARY:El pavelló estrena il•luminació led
LOCATION:
METHOD:PUBLISH
X-WR-CALNAME:sesrovires@diba.cat
X-WR-TIMEZONE:Europe/Madrid
DESCRIPTION:Durant aquesta setmana s’ha renovat part de l’enllumenat interior del pavelló poliesportiu. S’han substituït els focus halògens de la pista i els fluorescents de la graderia per tecnologia led, la qual millora tant els nivells d’il·luminació com d’estalvi energètic al reduir-ne el consum.

URI:https://www.sesrovires.cat/actualitat/noticies/el-pavello-estrena-illuminacio-led.html
CLASS:PUBLIC
END:VEVENT
END:VCALENDAR
