BEGIN:VCALENDAR
VERSION:2.0
CALSCALE:GREGORIAN
PRODID:-//Diputació de Barcelona//DibaCMS//EN
BEGIN:VEVENT
UID:7770
DTSTAMP:20260420T102815
DTSTART:20181019T110000
DTEND:20191018T000000
SUMMARY:El programa de suport a empreses i emprenedors ‘Fem Xarxa, Fem Empresa’ arriba a la 5a edició  
LOCATION:
METHOD:PUBLISH
X-WR-CALNAME:sesrovires@diba.cat
X-WR-TIMEZONE:Europe/Madrid
DESCRIPTION:Ahir es va presentar la 5a edició del programa intermunicipal de suport a empreses i emprenedors de la zona nord del Baix Llobregat, Fem Xarxa Fem Empresa. L’acte va tenir lloc a Castellví de Rosanes, un dels vuit municipis promotors, juntament amb Abrera, Collbató, Esparreguera, Martorell, Olesa, Sant Andreu i Sant Esteve.

URI:https://www.sesrovires.cat/actualitat/noticies/el-programa-de-suport-a-empreses-i-emprenedors-fem-xarxa-fem-empresa-arriba-a-la-5a-edicio-.html
CLASS:PUBLIC
END:VEVENT
END:VCALENDAR
