BEGIN:VCALENDAR
VERSION:2.0
CALSCALE:GREGORIAN
PRODID:-//Diputació de Barcelona//DibaCMS//EN
BEGIN:VEVENT
UID:7773
DTSTAMP:20260420T150255
DTSTART:20181023T000000
DTEND:20191023T000000
SUMMARY:El sesrovirenc Martí Busquets debuta amb 15 anys a l'OK Lliga
LOCATION:
METHOD:PUBLISH
X-WR-CALNAME:sesrovires@diba.cat
X-WR-TIMEZONE:Europe/Madrid
DESCRIPTION:Martí Busquets és un jove sesrovirenc que estudia primer de batxillerat a l’Institut Montserrat Colomer. Però, a diferència d’altres joves de la seva edat, acaba de debutar amb només 15 anys en l’OK Lliga, és a dir, en la màxima categoria de l’hoquei patins espanyol.  A més, com a jugador de les categories inferiors s’ha proclamat campió de Catalunya i campió d’Espanya.

URI:https://www.sesrovires.cat/actualitat/noticies/el-sesrovirenc-marti-busquets-debuta-amb-15-anys-a-lok-lliga.html
CLASS:PUBLIC
END:VEVENT
END:VCALENDAR
