BEGIN:VCALENDAR
VERSION:2.0
CALSCALE:GREGORIAN
PRODID:-//Diputació de Barcelona//DibaCMS//EN
BEGIN:VEVENT
UID:7774
DTSTAMP:20260420T142519
DTSTART:20181023T000000
DTEND:20191023T000000
SUMMARY:L’escriptor Benjamín Marne presenta la seva primera novel·la  a la Biblioteca
LOCATION:
METHOD:PUBLISH
X-WR-CALNAME:sesrovires@diba.cat
X-WR-TIMEZONE:Europe/Madrid
DESCRIPTION:Benjamín Marne acaba de publicar la seva primera novel·la. Mi baraca tiene nombre de mujer és el títol del llibre que l’escriptor sesrovirenc presenta el 26 d’octubre, a les 19.00 hores, a la Biblioteca Municipal. Marne també forma part del Grup d’Escriptura de la biblioteca.

URI:https://www.sesrovires.cat/actualitat/noticies/lescriptor-benjamin-marne-presenta-la-seva-primera-novella-a-la-biblioteca.html
CLASS:PUBLIC
END:VEVENT
END:VCALENDAR
