BEGIN:VCALENDAR
VERSION:2.0
CALSCALE:GREGORIAN
PRODID:-//Diputació de Barcelona//DibaCMS//EN
BEGIN:VEVENT
UID:7775
DTSTAMP:20260420T102907
DTSTART:20181023T150000
DTEND:20191023T000000
SUMMARY:Nou curs del Créixer Junts, l’espai de suport i trobada per a famílies amb infants de 0 a 3 anys
LOCATION:
METHOD:PUBLISH
X-WR-CALNAME:sesrovires@diba.cat
X-WR-TIMEZONE:Europe/Madrid
DESCRIPTION:La Llar d’Infants Municipal La Ginesta i l’Àrea d’Educació de l’Ajuntament han posat en marxa una nova edició del Créixer Junts, un espai de trobada adreçat a famílies amb infants de 0 a 3 anys que permet abordar aspectes rellevants sobre la criança dels fills i filles, a partir del diàleg, la reflexió i la formació.

URI:https://www.sesrovires.cat/actualitat/noticies/nou-curs-del-creixer-junts-lespai-de-suport-i-trobada-per-a-families-amb-infants-de-0-a-3-anys.html
CLASS:PUBLIC
END:VEVENT
END:VCALENDAR
