BEGIN:VCALENDAR
VERSION:2.0
CALSCALE:GREGORIAN
PRODID:-//Diputació de Barcelona//DibaCMS//EN
BEGIN:VEVENT
UID:7776
DTSTAMP:20260420T164415
DTSTART:20181024T000000
DTEND:20191024T000000
SUMMARY:Espectacle infantil al Casino amb una companyia multipremiada
LOCATION:
METHOD:PUBLISH
X-WR-CALNAME:sesrovires@diba.cat
X-WR-TIMEZONE:Europe/Madrid
DESCRIPTION:Guardonada amb nombrosos premis en l’àmbit del teatre familiar, la companyia Xip Xap arriba a Sant Esteve Sesrovires diumenge per representar al Casino l’obra El llop i les 7 cabretes, el tradicional conte infantil però en format original. L’espectacle forma part del cicle de teatre infantil Bambolina organitzat per l’Àrea de Joventut de l’Ajuntament.

URI:https://www.sesrovires.cat/actualitat/noticies/espectacle-infantil-al-casino-amb-una-companyia-multipremiada.html
CLASS:PUBLIC
END:VEVENT
END:VCALENDAR
