BEGIN:VCALENDAR
VERSION:2.0
CALSCALE:GREGORIAN
PRODID:-//Diputació de Barcelona//DibaCMS//EN
BEGIN:VEVENT
UID:7781
DTSTAMP:20260420T102600
DTSTART:20181025T080000
DTEND:20191024T000000
SUMMARY:Ús intensiu de les instal·lacions esportives municipals
LOCATION:
METHOD:PUBLISH
X-WR-CALNAME:sesrovires@diba.cat
X-WR-TIMEZONE:Europe/Madrid
DESCRIPTION:Les instal·lacions esportives municipals són utilitzades regularment per 1.186 esportistes, segons un estudi realitzar per l’Àrea d’Esports.  L’ús més intensiu té lloc a les tardes i els caps de setmana.  L’Ajuntament cedeix gratuïtament les instal·lacions esportives als clubs. El valor d’aquesta cessió és de 355.470,79 euros a l’any.

URI:https://www.sesrovires.cat/actualitat/noticies/us-intensiu-de-les-installacions-esportives-municipals.html
CLASS:PUBLIC
END:VEVENT
END:VCALENDAR
