BEGIN:VCALENDAR
VERSION:2.0
CALSCALE:GREGORIAN
PRODID:-//Diputació de Barcelona//DibaCMS//EN
BEGIN:VEVENT
UID:7799
DTSTAMP:20260420T115943
DTSTART:20181025T160000
DTEND:20191025T000000
SUMMARY:El govern municipal aprova la congelació de les taxes i tributs per al 2019
LOCATION:
METHOD:PUBLISH
X-WR-CALNAME:sesrovires@diba.cat
X-WR-TIMEZONE:Europe/Madrid
DESCRIPTION:L’equip de govern de l’Ajuntament de Sant Esteve ha donat llum verda a la congelació de les ordenances fiscals per a l’any 2019 a través d’una moció que es va aprovar en el ple d’ahir. L’objectiu és no augmentar la càrrega impositiva a les famílies, donant compliment als compromisos definits en el pla d’ajust.

URI:https://www.sesrovires.cat/actualitat/noticies/el-govern-municipal-aprova-la-congelacio-de-les-taxes-i-tributs-per-al-2019.html
CLASS:PUBLIC
END:VEVENT
END:VCALENDAR
