BEGIN:VCALENDAR
VERSION:2.0
CALSCALE:GREGORIAN
PRODID:-//Diputació de Barcelona//DibaCMS//EN
BEGIN:VEVENT
UID:7837
DTSTAMP:20260420T115655
DTSTART:20181031T162000
DTEND:20191031T000000
SUMMARY:Rosalía, nominada a Personalitat Baixllobregatina de l’any 2018 
LOCATION:
METHOD:PUBLISH
X-WR-CALNAME:sesrovires@diba.cat
X-WR-TIMEZONE:Europe/Madrid
DESCRIPTION:L’artista sesrovirenca Rosalía ha estat nominada a Personalitat Baixllobregatina de l’any 2018 en el marc de la 10a edició dels Premis de Reconeixement Cultural que organitza el Centre d’Estudis Comarcals del Baix Llobregat. Es pot donar suport a la candidatura fins al 12 de novembre a través del web del centre d’estudis.

URI:https://www.sesrovires.cat/actualitat/noticies/rosalia-nominada-a-personalitat-baixllobregatina-de-lany-2018-.html
CLASS:PUBLIC
END:VEVENT
END:VCALENDAR
