BEGIN:VCALENDAR
VERSION:2.0
CALSCALE:GREGORIAN
PRODID:-//Diputació de Barcelona//DibaCMS//EN
BEGIN:VEVENT
UID:7839
DTSTAMP:20260420T115833
DTSTART:20181109T160000
DTEND:20191109T000000
SUMMARY:Policia Local i mossos detenen in fraganti dos homes per una temptativa de robatori amb força a un domicili
LOCATION:
METHOD:PUBLISH
X-WR-CALNAME:sesrovires@diba.cat
X-WR-TIMEZONE:Europe/Madrid
DESCRIPTION:Agents de la Policia Local i de Mossos d’Esquadra van detenir el dilluns dia 5 dos homes, de 21 i 23 anys, de nacionalitat georgiana i veïns de Santa Coloma de Gramenet, com a presumptes autors d’un robatori amb força consumat i una temptativa de robatori amb força a interior de domicili a la zona de Vinya del forn de Sant Esteve. Un d'ells va ser detingut pels mossos a l'estació i l’altre va ser interceptat a la via pública per la Policia Local quan intentaven fugir després de veure’s sorpresos forçant la porta. Els detinguts han estat relacionats amb un altre robatori amb força a domicili comès també a Sant Esteve a principis de julol.

URI:https://www.sesrovires.cat/actualitat/noticies/policia-local-i-mossos-detenen-in-fraganti-dos-homes-per-una-temptativa-de-robatori-amb-forca-a-un-domicili.html
CLASS:PUBLIC
END:VEVENT
END:VCALENDAR
