BEGIN:VCALENDAR
VERSION:2.0
CALSCALE:GREGORIAN
PRODID:-//Diputació de Barcelona//DibaCMS//EN
BEGIN:VEVENT
UID:7840
DTSTAMP:20260420T183958
DTSTART:20181109T150000
DTEND:20191109T000000
SUMMARY:Inscripcions al Networking Franquícies adreçat a empresaris i emprenedors 
LOCATION:
METHOD:PUBLISH
X-WR-CALNAME:sesrovires@diba.cat
X-WR-TIMEZONE:Europe/Madrid
DESCRIPTION:En el marc del programa intermunicipal “Fem Xarxa Fem Empresa” de suport a empreses i emprenedors del Baix Llobregat Nord, s’ha organitzat un networking centrat en l’àmbit de les franquícies. La jornada, que és gratuïta, tindrà lloc al Molí Fariner de Martorell, el proper 22 de novembre. 







URI:https://www.sesrovires.cat/actualitat/noticies/inscripcions-al-networking-franquicies-adrecat-a-empresaris-i-emprenedors-.html
CLASS:PUBLIC
END:VEVENT
END:VCALENDAR
