BEGIN:VCALENDAR
VERSION:2.0
CALSCALE:GREGORIAN
PRODID:-//Diputació de Barcelona//DibaCMS//EN
BEGIN:VEVENT
UID:7841
DTSTAMP:20260420T103001
DTSTART:20181110T210000
DTEND:20191111T000000
SUMMARY:Inscripcions a la fira de Nadal del 12 al 23 de novembre
LOCATION:
METHOD:PUBLISH
X-WR-CALNAME:sesrovires@diba.cat
X-WR-TIMEZONE:Europe/Madrid
DESCRIPTION:El dilluns 12 de novembre s’obre el termini d’inscripcions per participar a la 7a Fira de Nadal que tindrà lloc a Sant Esteve el dissabte 1 de desembre. Les inscripcions es poden formalitzar a través del formulari web a www.sesrovires.cat (actiu a partir del dia 12) i al SIAC de l’Ajuntament fins al 23 de novembre.

URI:https://www.sesrovires.cat/actualitat/noticies/inscripcions-a-la-fira-de-nadal-del-12-al-23-de-novembre.html
CLASS:PUBLIC
END:VEVENT
END:VCALENDAR
