BEGIN:VCALENDAR
VERSION:2.0
CALSCALE:GREGORIAN
PRODID:-//Diputació de Barcelona//DibaCMS//EN
BEGIN:VEVENT
UID:7846
DTSTAMP:20260420T151616
DTSTART:20181114T000000
DTEND:20191114T000000
SUMMARY:Taller de tatuatges per a infants a Matí de Color
LOCATION:
METHOD:PUBLISH
X-WR-CALNAME:sesrovires@diba.cat
X-WR-TIMEZONE:Europe/Madrid
DESCRIPTION:Matí de Color presenta per primer cop un taller de tatoos, per tal que nens i nenes es puguin fer un tatuatge, un tatuatge que serà temporal, però que permetrà als infants passar una bona estona dibuixant sobre el seu cos. Matí de Color és una activitat organitzada per l’Àrea de Joventut al Casal Social de Vallerrat. El taller s’impartirà aquest diumenge, 18 de novembre, a les 12.00 hores.

URI:https://www.sesrovires.cat/actualitat/noticies/taller-de-tatuatges-per-a-infants-a-mati-de-color.html
CLASS:PUBLIC
END:VEVENT
END:VCALENDAR
