BEGIN:VCALENDAR
VERSION:2.0
CALSCALE:GREGORIAN
PRODID:-//Diputació de Barcelona//DibaCMS//EN
BEGIN:VEVENT
UID:7851
DTSTAMP:20260420T115908
DTSTART:20181115T133000
DTEND:20191115T000000
SUMMARY:La intensa pluja provoca nombroses incidències
LOCATION:
METHOD:PUBLISH
X-WR-CALNAME:sesrovires@diba.cat
X-WR-TIMEZONE:Europe/Madrid
DESCRIPTION:A causa de les intenses pluges que han caigut en les darrers hores, s’estan produint diverses afectacions, especialment a la xarxa viària. Protecció Civil de la Generalitat ha activat l'Alerta del Pla INUNCAT per pluges intenses avui al litoral i prelitoral.

URI:https://www.sesrovires.cat/actualitat/noticies/la-intensa-pluja-provoca-nombroses-incidencies.html
CLASS:PUBLIC
END:VEVENT
END:VCALENDAR
