BEGIN:VCALENDAR
VERSION:2.0
CALSCALE:GREGORIAN
PRODID:-//Diputació de Barcelona//DibaCMS//EN
BEGIN:VEVENT
UID:7855
DTSTAMP:20260420T102706
DTSTART:20181118T180000
DTEND:20191116T000000
SUMMARY:Sant Esteve Sesrovires, contra la violència de gènere
LOCATION:
METHOD:PUBLISH
X-WR-CALNAME:sesrovires@diba.cat
X-WR-TIMEZONE:Europe/Madrid
DESCRIPTION:El proper diumenge, 25 de novembre, és el dia Dia Internacional per a l’Eliminació de la Violència Envers les Dones. A Sant Esteve Sesrovires tornarà a mostrar el seu rebuig contra la violència masclista amb una activitat organitzada conjuntament per la Regidoria de Polítiques de Gènere i les dues entitats de dones del municipi. L’acte tindrà lloc a la plaça Xic Mateu, el 25 de novembre, a les 13.00 hores.

URI:https://www.sesrovires.cat/actualitat/noticies/sant-esteve-sesrovires-contra-la-violencia-de-genere.html
CLASS:PUBLIC
END:VEVENT
END:VCALENDAR
