BEGIN:VCALENDAR
VERSION:2.0
CALSCALE:GREGORIAN
PRODID:-//Diputació de Barcelona//DibaCMS//EN
BEGIN:VEVENT
UID:7864
DTSTAMP:20260420T150048
DTSTART:20181121T080500
DTEND:20191120T000000
SUMMARY:L’Aula de Música celebra 10 anys amb l’edició d’un conte i d’un disc
LOCATION:
METHOD:PUBLISH
X-WR-CALNAME:sesrovires@diba.cat
X-WR-TIMEZONE:Europe/Madrid
DESCRIPTION:Amb motiu del desè aniversari de l’entitat, l’Aula de Música presentarà el proper 23 de novembre a la Biblioteca Municipal el llibre Sentint el Nadal, que conté un disc interpretat per professors i alumnes. L’acte comptarà amb la presència dels professors de l’Aula i de l’il·lustrador de l‘obra.

URI:https://www.sesrovires.cat/actualitat/noticies/laula-de-musica-celebra-10-anys-amb-ledicio-dun-conte-i-dun-disc.html
CLASS:PUBLIC
END:VEVENT
END:VCALENDAR
