BEGIN:VCALENDAR
VERSION:2.0
CALSCALE:GREGORIAN
PRODID:-//Diputació de Barcelona//DibaCMS//EN
BEGIN:VEVENT
UID:7871
DTSTAMP:20260420T115622
DTSTART:20181127T142500
DTEND:20191127T000000
SUMMARY:Gran recapte d’aliments fins al 10 de desembre
LOCATION:
METHOD:PUBLISH
X-WR-CALNAME:sesrovires@diba.cat
X-WR-TIMEZONE:Europe/Madrid
DESCRIPTION:El Banc d’Aliments de Sant Esteve impulsa la campanya anual del Gran Recapte el proper divendres 30 de novembre. Però a diferència d’altres localitats, la recollida d’aliments s’estendrà fins al 10 de desembre a Sant Esteve. Divendres i dissabte es posaran tres punts de recollida al centre urbà.

URI:https://www.sesrovires.cat/actualitat/noticies/gran-recapte-daliments-fins-al-10-de-desembre.html
CLASS:PUBLIC
END:VEVENT
END:VCALENDAR
