BEGIN:VCALENDAR
VERSION:2.0
CALSCALE:GREGORIAN
PRODID:-//Diputació de Barcelona//DibaCMS//EN
BEGIN:VEVENT
UID:7926
DTSTAMP:20260420T182547
DTSTART:20181212T000000
DTEND:20191212T000000
SUMMARY:Campanya Alcohol Zero a les Instal·lacions Esportives
LOCATION:
METHOD:PUBLISH
X-WR-CALNAME:sesrovires@diba.cat
X-WR-TIMEZONE:Europe/Madrid
DESCRIPTION:L’Ajuntament de Sant Esteve Sesrovires engegarà al gener la campanya Alcohol Zero a les Instal·lacions Esportives.  El consistori vol conscienciar la població sobre la necessitat de complir amb la Llei de l’Esport, que prohibeix la venda i el consum de begudes alcohòliques durant les competicions esportives.

URI:https://www.sesrovires.cat/actualitat/noticies/campanya-alcohol-zero-a-les-installacions-esportives.html
CLASS:PUBLIC
END:VEVENT
END:VCALENDAR
