BEGIN:VCALENDAR
VERSION:2.0
CALSCALE:GREGORIAN
PRODID:-//Diputació de Barcelona//DibaCMS//EN
BEGIN:VEVENT
UID:7932
DTSTAMP:20260421T120612
DTSTART:20181213T160000
DTEND:20191213T000000
SUMMARY:L'Escola La Roureda participa en el programa Erasmus Plus
LOCATION:
METHOD:PUBLISH
X-WR-CALNAME:sesrovires@diba.cat
X-WR-TIMEZONE:Europe/Madrid
DESCRIPTION:Una delegació d’alumnes de 6è i docents de l’escola La Roureda de Sant Esteve Sesrovires es troben a Taranto, Itàlia, en el primer viatge que es realitza en el marc del programa Erasmus Plus. El centre ha estat seleccionat per participar en aquest programa cofinançat per la Unió Europea que té per objectiu la innovació i l’intercanvi per a les bones pràctiques.

URI:https://www.sesrovires.cat/actualitat/noticies/lescola-la-roureda-participa-en-el-programa-erasmus-plus.html
CLASS:PUBLIC
END:VEVENT
END:VCALENDAR
