BEGIN:VCALENDAR
VERSION:2.0
CALSCALE:GREGORIAN
PRODID:-//Diputació de Barcelona//DibaCMS//EN
BEGIN:VEVENT
UID:7998
DTSTAMP:20260421T161526
DTSTART:20190116T160000
DTEND:20200115T000000
SUMMARY:Nou Pla d’Ocupació per cobrir els llocs d’oficials de construcció i de jardineria
LOCATION:
METHOD:PUBLISH
X-WR-CALNAME:sesrovires@diba.cat
X-WR-TIMEZONE:Europe/Madrid
DESCRIPTION:L’Ajuntament convoca un nou Pla d’Ocupació adscrit als Serveis Exteriors municipals destinat a ocupar els llocs de paleta i d’oficial de jardineria. Les persones interessades, han d’adreçar-se a l’Àrea de Promoció Econòmica, del 16 al 29 de gener. Per participar en el procés de selecció cal estar en situació d’atur i inscrit a l’Oficina de Treball del SOC.

URI:https://www.sesrovires.cat/actualitat/noticies/nou-pla-docupacio-per-cobrir-els-llocs-doficials-de-construccio-i-de-jardineria.html
CLASS:PUBLIC
END:VEVENT
END:VCALENDAR
