BEGIN:VCALENDAR
VERSION:2.0
CALSCALE:GREGORIAN
PRODID:-//Diputació de Barcelona//DibaCMS//EN
BEGIN:VEVENT
UID:8002
DTSTAMP:20260421T133546
DTSTART:20190116T152000
DTEND:20200116T000000
SUMMARY:Finalitza la instal•lació de fusteria d’alumini a La Roureda 
LOCATION:
METHOD:PUBLISH
X-WR-CALNAME:sesrovires@diba.cat
X-WR-TIMEZONE:Europe/Madrid
DESCRIPTION:En els darrers dies ha finalitzat la col·locació de fusteria d’alumini interior a l’Escola La Roureda, tant en l’edifici vell com en el nou. L’objectiu d’aquesta actuació és la millora de l’eficiència energètica i els nivells tèrmics i acústics de l’equipament.

URI:https://www.sesrovires.cat/actualitat/noticies/finalitza-la-installacio-de-fusteria-dalumini-a-la-roureda-.html
CLASS:PUBLIC
END:VEVENT
END:VCALENDAR
