BEGIN:VCALENDAR
VERSION:2.0
CALSCALE:GREGORIAN
PRODID:-//Diputació de Barcelona//DibaCMS//EN
BEGIN:VEVENT
UID:8003
DTSTAMP:20260421T115321
DTSTART:20190117T080000
DTEND:20200116T000000
SUMMARY:El jugador del CH Sant Esteve Marc Jordan jugarà amb la Selecció Catalana un partit solidari
LOCATION:
METHOD:PUBLISH
X-WR-CALNAME:sesrovires@diba.cat
X-WR-TIMEZONE:Europe/Madrid
DESCRIPTION:Marc Jordan, jugador del Club Handbol Sant Esteve, participarà diumenge a Granollers amb la Selecció Catalana Absoluta en el partit solidari Somriures que curen. Jordan, de 23 anys, forma part del primer equip del CH Sant Esteve que juga en Primera Estatal.

URI:https://www.sesrovires.cat/actualitat/noticies/el-jugador-del-ch-sant-esteve-marc-jordan-jugara-amb-la-seleccio-catalana-un-partit-solidari.html
CLASS:PUBLIC
END:VEVENT
END:VCALENDAR
