BEGIN:VCALENDAR
VERSION:2.0
CALSCALE:GREGORIAN
PRODID:-//Diputació de Barcelona//DibaCMS//EN
BEGIN:VEVENT
UID:8025
DTSTAMP:20260422T003252
DTSTART:20190122T000000
DTEND:20200122T000000
SUMMARY:Sant Esteve s’adhereix a la xarxa RESCAT de Radiocomunicacions d’Emergències i Seguretat 
LOCATION:
METHOD:PUBLISH
X-WR-CALNAME:sesrovires@diba.cat
X-WR-TIMEZONE:Europe/Madrid
DESCRIPTION:L’Ajuntament i el Departament d’Interior han subscrit un conveni de col·laboració per a la integració dels cossos de seguretat i emergències del municipi, Policia Local i Protecció Civil, a la xarxa RESCAT. Es tracta d’una xarxa de radiocomunicacions mòbils que permet la comunicació i coordinació dels diferents serveis en situacions d’emergència.

URI:https://www.sesrovires.cat/actualitat/noticies/sant-esteve-sadhereix-a-la-xarxa-rescat-de-radiocomunicacions-demergencies-i-seguretat-.html
CLASS:PUBLIC
END:VEVENT
END:VCALENDAR
