BEGIN:VCALENDAR
VERSION:2.0
CALSCALE:GREGORIAN
PRODID:-//Diputació de Barcelona//DibaCMS//EN
BEGIN:VEVENT
UID:8034
DTSTAMP:20260421T131533
DTSTART:20190124T130000
DTEND:20200124T000000
SUMMARY:Sant Esteve reclama millores en el servei de Correus
LOCATION:
METHOD:PUBLISH
X-WR-CALNAME:sesrovires@diba.cat
X-WR-TIMEZONE:Europe/Madrid
DESCRIPTION:Resoldre les deficiències del servei de Correus al municipi que compta amb una unitat de repartiment insuficient. Aquesta és la demanda que el Ple Municipal va exposar per mitjà d’una moció presentada per Entesa, amb el suport de tots els grups. 

URI:https://www.sesrovires.cat/actualitat/noticies/sant-esteve-reclama-millores-en-el-servei-de-correus.html
CLASS:PUBLIC
END:VEVENT
END:VCALENDAR
