BEGIN:VCALENDAR
VERSION:2.0
CALSCALE:GREGORIAN
PRODID:-//Diputació de Barcelona//DibaCMS//EN
BEGIN:VEVENT
UID:8041
DTSTAMP:20260421T105158
DTSTART:20190125T150000
DTEND:20200125T000000
SUMMARY:El bus urbà recupera les expedicions de tarda
LOCATION:
METHOD:PUBLISH
X-WR-CALNAME:sesrovires@diba.cat
X-WR-TIMEZONE:Europe/Madrid
DESCRIPTION:A partir del 4 de febrer, entrarà en funcionament el servei de bus urbà en horari de tarda amb dues expedicions, a les 4 i a les 8 del vespre. L’objectiu és consolidar aquest transport que en el darrer any ha experimentat un increment significatiu d’usuaris i donar resposta a les necessitats dels veïns dels barris que requereixen accedir als serveis del centre urbà i que no han trobat en el transport a demanda (TAD) la resposta a les seves necessitats de mobilitat.

URI:https://www.sesrovires.cat/actualitat/noticies/el-bus-urba-recupera-les-expedicions-de-tarda.html
CLASS:PUBLIC
END:VEVENT
END:VCALENDAR
