BEGIN:VCALENDAR
VERSION:2.0
CALSCALE:GREGORIAN
PRODID:-//Diputació de Barcelona//DibaCMS//EN
BEGIN:VEVENT
UID:8068
DTSTAMP:20260421T143539
DTSTART:20190206T000000
DTEND:20200206T000000
SUMMARY:A la venda els tiquets del Dia d’Andalusia
LOCATION:
METHOD:PUBLISH
X-WR-CALNAME:sesrovires@diba.cat
X-WR-TIMEZONE:Europe/Madrid
DESCRIPTION:El Casal de Vallserrat acollirà el proper 24 de febrer el Dia d’Andalusia. Hi ha haurà un dinar i actuacions musicals a partir de les 13.00h. L’activitat està organitzada per la Cofradía del Santo Cristo amb la col·laboració de diverses entitats i col·lectius. Els tiquets ja estan a la venda.

URI:https://www.sesrovires.cat/actualitat/noticies/a-la-venda-els-tiquets-del-dia-dandalusia.html
CLASS:PUBLIC
END:VEVENT
END:VCALENDAR
