BEGIN:VCALENDAR
VERSION:2.0
CALSCALE:GREGORIAN
PRODID:-//Diputació de Barcelona//DibaCMS//EN
BEGIN:VEVENT
UID:8069
DTSTAMP:20260421T121002
DTSTART:20190206T123000
DTEND:20200206T000000
SUMMARY:Nous descomptes per a gaudir del turisme familiar al Baix Llobregat
LOCATION:
METHOD:PUBLISH
X-WR-CALNAME:sesrovires@diba.cat
X-WR-TIMEZONE:Europe/Madrid
DESCRIPTION:El Consorci de Turisme del Baix Llobregat reedita el cupó per fer escapades en família. Aquest 2019, les famílies podran gaudir dels nous descomptes i promocions per a visitar els principals atractius turístics del Baix Llobregat a preus especials.

URI:https://www.sesrovires.cat/actualitat/noticies/nous-descomptes-per-a-gaudir-del-turisme-familiar-al-baix-llobregat.html
CLASS:PUBLIC
END:VEVENT
END:VCALENDAR
