BEGIN:VCALENDAR
VERSION:2.0
CALSCALE:GREGORIAN
PRODID:-//Diputació de Barcelona//DibaCMS//EN
BEGIN:VEVENT
UID:8074
DTSTAMP:20260421T163128
DTSTART:20190226T080000
DTEND:20200207T000000
SUMMARY:La Cursa de la SEAT se celebrarà el 12 de maig
LOCATION:
METHOD:PUBLISH
X-WR-CALNAME:sesrovires@diba.cat
X-WR-TIMEZONE:Europe/Madrid
DESCRIPTION:La quarta edició de la Cursa de la Seat ja té data. La prova atlètica se celebrarà el proper 12 de maig i comptarà amb 6.000 participants, segons les previsions de les organitzacions. La jornada esportiva estarà formada per dues distàncies, concretament de 5 i 10 quilòmetres.

URI:https://www.sesrovires.cat/actualitat/noticies/la-cursa-de-la-seat-se-celebrara-el-12-de-maig.html
CLASS:PUBLIC
END:VEVENT
END:VCALENDAR
