BEGIN:VCALENDAR
VERSION:2.0
CALSCALE:GREGORIAN
PRODID:-//Diputació de Barcelona//DibaCMS//EN
BEGIN:VEVENT
UID:8076
DTSTAMP:20260422T034240
DTSTART:20190207T100000
DTEND:20200207T000000
SUMMARY:Adhesió al Consell de Salut del Baix Llobregat
LOCATION:
METHOD:PUBLISH
X-WR-CALNAME:sesrovires@diba.cat
X-WR-TIMEZONE:Europe/Madrid
DESCRIPTION:Sant Esteve s’ha adherit al Consell de Salut del Baix Llobregat, un nou ens recentment constituït i que neix amb la voluntat de vetllar per la qualitat de l’atenció primària i hospitalària de la comarca. 

URI:https://www.sesrovires.cat/actualitat/noticies/adhesio-al-consell-de-salut-del-baix-llobregat.html
CLASS:PUBLIC
END:VEVENT
END:VCALENDAR
