BEGIN:VCALENDAR
VERSION:2.0
CALSCALE:GREGORIAN
PRODID:-//Diputació de Barcelona//DibaCMS//EN
BEGIN:VEVENT
UID:8080
DTSTAMP:20260421T150312
DTSTART:20190212T000000
DTEND:20200212T000000
SUMMARY:Doble pòdium de Tresina  Sport a Mollerussa
LOCATION:
METHOD:PUBLISH
X-WR-CALNAME:sesrovires@diba.cat
X-WR-TIMEZONE:Europe/Madrid
DESCRIPTION:Els dos equips de Tresina Sport van pujar al pòdium en la primera prova de la Copa Catalana de Resistència Off-Road, celebrada diumenge a Mollerussa.  La parella formada pels germans Jordi i David Boltà es va proclamar campiona de la cursa  i els germans Ivan i Xavier Margarit van ser els subcampions.

URI:https://www.sesrovires.cat/actualitat/noticies/doble-podium-de-tresina-sport-a-mollerussa.html
CLASS:PUBLIC
END:VEVENT
END:VCALENDAR
