BEGIN:VCALENDAR
VERSION:2.0
CALSCALE:GREGORIAN
PRODID:-//Diputació de Barcelona//DibaCMS//EN
BEGIN:VEVENT
UID:8089
DTSTAMP:20260421T104719
DTSTART:20190219T140000
DTEND:20200219T000000
SUMMARY:Comença la substitució de contenidors a tot el municipi
LOCATION:
METHOD:PUBLISH
X-WR-CALNAME:sesrovires@diba.cat
X-WR-TIMEZONE:Europe/Madrid
DESCRIPTION:La nova empresa concessionària de recollida d’escombraries, GEASER SL, ha iniciat avui la instal·lació dels nous contenidors al municipi.  Els primers en ser substituïts són els de rebuig i, de manera progressiva, es canviaran la resta de residus. Està previst que la renovació pugui durar unes cinc setmanes, ja que s’instal·laran prop de 700 contenidors, amb un increment de 130 contenidors i la creació de 18 noves àrees de recollida.

URI:https://www.sesrovires.cat/actualitat/noticies/comenca-la-substitucio-de-contenidors-a-tot-el-municipi.html
CLASS:PUBLIC
END:VEVENT
END:VCALENDAR
