BEGIN:VCALENDAR
VERSION:2.0
CALSCALE:GREGORIAN
PRODID:-//Diputació de Barcelona//DibaCMS//EN
BEGIN:VEVENT
UID:8090
DTSTAMP:20260421T104924
DTSTART:20190313T142500
DTEND:20200219T000000
SUMMARY:Acord de col·laboració amb SOREA per la creació d’un Fons de Solidaritat contra la pobresa energètica
LOCATION:
METHOD:PUBLISH
X-WR-CALNAME:sesrovires@diba.cat
X-WR-TIMEZONE:Europe/Madrid
DESCRIPTION:L'Ajuntament de Sant Esteve i l’empresa gestora del cicle integral de l’aigua al municipi, SOREA, han signat avui un conveni de col·laboració contra la pobresa energètica i la vulnerabilitat econòmica. L’objectiu de l’acord és la creació d’un Fons de Solidaritat destinat a garantir l’abastament d’aigua potable a famílies que no poden pagar-la.

URI:https://www.sesrovires.cat/actualitat/noticies/acord-de-collaboracio-amb-sorea-per-la-creacio-dun-fons-de-solidaritat-contra-la-pobresa-energetica.html
CLASS:PUBLIC
END:VEVENT
END:VCALENDAR
