BEGIN:VCALENDAR
VERSION:2.0
CALSCALE:GREGORIAN
PRODID:-//Diputació de Barcelona//DibaCMS//EN
BEGIN:VEVENT
UID:8091
DTSTAMP:20260422T010109
DTSTART:20190221T140000
DTEND:20200220T000000
SUMMARY:Sant Esteve assumirà la recollida d’escombraries a Vinyes del Turó
LOCATION:
METHOD:PUBLISH
X-WR-CALNAME:sesrovires@diba.cat
X-WR-TIMEZONE:Europe/Madrid
DESCRIPTION:A partir del proper 1 de març, l’Ajuntament de Sant Esteve es farà càrrec de la recollida d’escombraries a Vinyes del Turó. La decisió l’han traslladat l’alcalde Enric Carbonell, acompanyat pel regidor d’Obres i Via Pública, Antonio Centeno, a la comunitat de propietaris d’aquesta urbanització en la reunió mantinguda aquesta setmana. Els veïns havien expressat el seu malestar per la significativa reducció del servei que fins ara prestava la nova concessionària de l’Ajuntament de Masquefa.   

URI:https://www.sesrovires.cat/actualitat/noticies/sant-esteve-assumira-la-recollida-descombraries-a-vinyes-del-turo.html
CLASS:PUBLIC
END:VEVENT
END:VCALENDAR
