BEGIN:VCALENDAR
VERSION:2.0
CALSCALE:GREGORIAN
PRODID:-//Diputació de Barcelona//DibaCMS//EN
BEGIN:VEVENT
UID:8092
DTSTAMP:20260421T162918
DTSTART:20190220T000000
DTEND:20200220T000000
SUMMARY:Jornades de la Dona, del 25 de febrer al 31 de març
LOCATION:
METHOD:PUBLISH
X-WR-CALNAME:sesrovires@diba.cat
X-WR-TIMEZONE:Europe/Madrid
DESCRIPTION:Amb motiu del 8 de març, la regidoria de la Dona, les associacions feministes del municipi i diverses entitats han sumat esforços per elaborar el programa d’actes  de les Jornades de la Dona, que anirà del 25 de febrer al 31 de març. Les activitats amb motiu del Dia de la Dona combinen la reivindicació amb actes culturals.

URI:https://www.sesrovires.cat/actualitat/noticies/jornades-de-la-dona-del-25-de-febrer-al-31-de-marc.html
CLASS:PUBLIC
END:VEVENT
END:VCALENDAR
