BEGIN:VCALENDAR
VERSION:2.0
CALSCALE:GREGORIAN
PRODID:-//Diputació de Barcelona//DibaCMS//EN
BEGIN:VEVENT
UID:8104
DTSTAMP:20260421T182238
DTSTART:20190222T000000
DTEND:20200222T000000
SUMMARY:Premi de 500 euros per a la millor comparsa de carnaval
LOCATION:
METHOD:PUBLISH
X-WR-CALNAME:sesrovires@diba.cat
X-WR-TIMEZONE:Europe/Madrid
DESCRIPTION:Carnaval arriba el 2 de març amb una gran rua pels principals carrers del centre urbà.  El concurs de comparses contempla un primer premi de 500 euros. Les inscripcions s’han de realitzar a través del SIAC o de la plataforma Decidim Sesrovires (https://decidim-sesrovires.diba.cat/) abans del 28 de febrer.

URI:https://www.sesrovires.cat/actualitat/noticies/premi-de-500-euros-per-a-la-millor-comparsa-de-carnaval.html
CLASS:PUBLIC
END:VEVENT
END:VCALENDAR
