BEGIN:VCALENDAR
VERSION:2.0
CALSCALE:GREGORIAN
PRODID:-//Diputació de Barcelona//DibaCMS//EN
BEGIN:VEVENT
UID:8106
DTSTAMP:20260421T133506
DTSTART:20190222T152500
DTEND:20200222T000000
SUMMARY:Les obres de millora de l’accés de la B-224 a Masia Bach començaran a la primavera
LOCATION:
METHOD:PUBLISH
X-WR-CALNAME:sesrovires@diba.cat
X-WR-TIMEZONE:Europe/Madrid
DESCRIPTION:La Generalitat ha anunciat avui que l’actuació a la B-224 per millorar la seguretat de l’accés a l’escola Àgora i a la urbanització Masia Bach s’executaran a la primavera. D’aquesta manera es posa fi a una llarga demanda dels veïns i Ajuntament per reduir la perillositat d’aquest trencall.

URI:https://www.sesrovires.cat/actualitat/noticies/les-obres-de-millora-de-lacces-de-la-b-224-a-masia-bach-comencaran-a-la-primavera.html
CLASS:PUBLIC
END:VEVENT
END:VCALENDAR
