BEGIN:VCALENDAR
VERSION:2.0
CALSCALE:GREGORIAN
PRODID:-//Diputació de Barcelona//DibaCMS//EN
BEGIN:VEVENT
UID:8120
DTSTAMP:20260421T115113
DTSTART:20190227T125000
DTEND:20200227T000000
SUMMARY:La Policia Local consciencia els joves sobre la mobilitat segura
LOCATION:
METHOD:PUBLISH
X-WR-CALNAME:sesrovires@diba.cat
X-WR-TIMEZONE:Europe/Madrid
DESCRIPTION:La Policia Local està desenvolupant una campanya a l’Institut Montserrat Colomer per conscienciar els estudiants sobre la necessitat d’una mobilitat segura. A través del visionat d’imatges de vídeo es demana als joves que reflexionin sobre les conseqüències de saltar-se les normes de trànsit. A més del treball a l’aula, els alumnes surten al carrer per comprovar de primera mà si conductors i vianants tenen un comportament responsable en la via pública.

URI:https://www.sesrovires.cat/actualitat/noticies/la-policia-local-consciencia-els-joves-sobre-la-mobilitat-segura.html
CLASS:PUBLIC
END:VEVENT
END:VCALENDAR
