BEGIN:VCALENDAR
VERSION:2.0
CALSCALE:GREGORIAN
PRODID:-//Diputació de Barcelona//DibaCMS//EN
BEGIN:VEVENT
UID:8131
DTSTAMP:20260421T163433
DTSTART:20190228T080000
DTEND:20200227T000000
SUMMARY:L'enquesta sobre els equipaments esportius s'amplia fins al 31 de març
LOCATION:
METHOD:PUBLISH
X-WR-CALNAME:sesrovires@diba.cat
X-WR-TIMEZONE:Europe/Madrid
DESCRIPTION:L’enquesta sobre els equipaments esportius es podrà contestar fins al 31 de març. L’Àrea d’Esports ha ampliat el termini per tal que el major nombre possible de persones puguin donar la seva opinió sobre aquest servei. Enguany, l’enquesta es realitza a través d’internet, concretament de la plataforma digital Decidim Sesrovires (https://decidim-sesrovires.diba.cat/processes/EnquestaEsports2019). Les persones que emplenin el formulari rebran un tiquet per entrar gratuïtament al Complex Esportiu.

URI:https://www.sesrovires.cat/actualitat/noticies/lenquesta-sobre-els-equipaments-esportius-samplia-fins-al-31-de-marc.html
CLASS:PUBLIC
END:VEVENT
END:VCALENDAR
