BEGIN:VCALENDAR
VERSION:2.0
CALSCALE:GREGORIAN
PRODID:-//Diputació de Barcelona//DibaCMS//EN
BEGIN:VEVENT
UID:8145
DTSTAMP:20260421T104848
DTSTART:20190305T130000
DTEND:20200304T000000
SUMMARY:Nou Pla d'ocupació d'auxiliar administratiu
LOCATION:
METHOD:PUBLISH
X-WR-CALNAME:sesrovires@diba.cat
X-WR-TIMEZONE:Europe/Madrid
DESCRIPTION:L’Ajuntament convoca un nou Pla d’ocupació per cobrir un lloc d’auxiliar administrativa per a l’atenció al públic. Poden optar-hi les persones en d’atur i inscrites a l’Oficina de Treball del SOC. Cal adreçar-se al Servei d'Ocupació Local de l’Àrea de Promoció Econòmica de l’Ajuntament, fins al divendres 8 de març.

URI:https://www.sesrovires.cat/actualitat/noticies/nou-pla-docupacio-dauxiliar-administratiu.html
CLASS:PUBLIC
END:VEVENT
END:VCALENDAR
