BEGIN:VCALENDAR
VERSION:2.0
CALSCALE:GREGORIAN
PRODID:-//Diputació de Barcelona//DibaCMS//EN
BEGIN:VEVENT
UID:8146
DTSTAMP:20260422T032800
DTSTART:20190306T150000
DTEND:20200305T000000
SUMMARY:Nou curs per a entitats sobre seu electrònica i IdCAT Mòbil 
LOCATION:
METHOD:PUBLISH
X-WR-CALNAME:sesrovires@diba.cat
X-WR-TIMEZONE:Europe/Madrid
DESCRIPTION:La regidoria de Participació Ciutadana organitza un curs gratuït adreçat a entitats, associacions i col·lectius sobre el funcionament de la Seu electrònica i l’IdCAt Mòbil, que s’impartirà el 18 de març al Casal de la Gent Gran.

URI:https://www.sesrovires.cat/temes/participacio/portal-de-participacio/nou-curs-per-a-entitats-sobre-seu-electronica-i-idcat-mobil-.html
CLASS:PUBLIC
END:VEVENT
END:VCALENDAR
