BEGIN:VCALENDAR
VERSION:2.0
CALSCALE:GREGORIAN
PRODID:-//Diputació de Barcelona//DibaCMS//EN
BEGIN:VEVENT
UID:8147
DTSTAMP:20260421T164208
DTSTART:20190306T190000
DTEND:20200305T000000
SUMMARY:Curs gratuït d’Instagram per a empreses i emprenedors
LOCATION:
METHOD:PUBLISH
X-WR-CALNAME:sesrovires@diba.cat
X-WR-TIMEZONE:Europe/Madrid
DESCRIPTION:L’Àrea de Promoció Econòmica organitza amb el suport de la Diputació un curs gratuït sobre l’ús d’Instagram adreçat a empreses i emprenedors. Les inscripcions per a la sessió formativa que s'impartirà el 12 de juny ja estan obertes.

URI:https://www.sesrovires.cat/actualitat/noticies/curs-gratuit-dinstagram-per-a-empreses-i-emprenedors.html
CLASS:PUBLIC
END:VEVENT
END:VCALENDAR
