BEGIN:VCALENDAR
VERSION:2.0
CALSCALE:GREGORIAN
PRODID:-//Diputació de Barcelona//DibaCMS//EN
BEGIN:VEVENT
UID:8149
DTSTAMP:20260421T115034
DTSTART:20190308T080000
DTEND:20200306T000000
SUMMARY:Consulta de les llistes del cens electoral
LOCATION:
METHOD:PUBLISH
X-WR-CALNAME:sesrovires@diba.cat
X-WR-TIMEZONE:Europe/Madrid
DESCRIPTION:De l’11 al 18 de març es poden consultar les llistes de cens electoral per tal de verificar les dades i poder exercir el dret a vot a les properes eleccions Generals convocades pel 28 d’abril. Del dilluns 11 al divendres 15 de març i també el dilluns dia 18 estaran disponibles al SIAC de l’Ajuntament. Durant el cap de setmana, es podran consultar a les dependències de la Policia Local.

 

URI:https://www.sesrovires.cat/actualitat/noticies/consulta-de-les-llistes-del-cens-electoral.html
CLASS:PUBLIC
END:VEVENT
END:VCALENDAR
